BEGIN:VCALENDAR
VERSION:2.0
PRODID:-//eventon.com NONSGML v1.0//EN
CALSCALE:GREGORIAN
METHOD:PUBLISH
BEGIN:VEVENT
UID:69ea274f95cdb
DTSTAMP:20260423T140607Z
DTSTART:20260517
DTEND:20260518
LOCATION:Deep Run High School 4801 Twin Hickory Rd
SUMMARY:Alice's Adventure in Wonderland
DESCRIPTION:Join us for a retelling of Alice&#8217;s Adventure in Wonderlan
 d by Passion Academy students.  Step into Wonderland with Alice as she tum
 bles down the rabbit hole into a world full of curious characters\,  playfu
 l surprises\,  and magical moments. Through dance\,  every movement brings 
 her adventure to life\,  capturing the imagination\, [..]\nhttps://passiona
 cademy.net/events/alices-adventure-in-wonderland/
URL:https://passionacademy.net/events/alices-adventure-in-wonderland/
END:VEVENT
END:VCALENDAR