BEGIN:VCALENDAR
VERSION:2.0
PRODID:-//eventon.com NONSGML v1.0//EN
CALSCALE:GREGORIAN
METHOD:PUBLISH
BEGIN:VEVENT
UID:69ea2819b68e5
DTSTAMP:20260423T140929Z
DTSTART:20260810T083000Z
DTEND:20260814T140000Z
LOCATION:
SUMMARY:MARY POPPINS JR 3: Musical Theatre Performance
DESCRIPTION:MARY POPPINS JR 3: Musical Theatre Performance $375 August 10th
 -14th 8:30-2 pm Ages 6-11 Teachers: Daniel and Katie Johannesson Step into 
 a world of imagination\,  music\,  and theatrical magic at our Mary Poppins
  Junior Musical Theatre Camp. Designed especially for young performers\,  t
 his engaging camp introduces students to the fundamentals[..]\nhttps://pass
 ionacademy.net/events/mary-poppins-jr-4-musical-theatre-performance/
URL:https://passionacademy.net/events/mary-poppins-jr-4-musical-theatre-performance/
END:VEVENT
END:VCALENDAR