BEGIN:VCALENDAR
VERSION:2.0
PRODID:-//eventon.com NONSGML v1.0//EN
CALSCALE:GREGORIAN
METHOD:PUBLISH
BEGIN:VEVENT
UID:69ea28576652e
DTSTAMP:20260423T141031Z
DTSTART:20260803T090000Z
DTEND:20260807T140000Z
LOCATION:
SUMMARY:MARY POPPINS JR 2: Musical Theatre Performance
DESCRIPTION:MARY POPPINS JR 2: Musical Theatre Performance $375 August 3rd-
 7th 8:30-2 pm Ages 6-11 Teachers: Daniel and Katie Johannesson Step into a 
 world of imagination\,  music\,  and theatrical magic at our Mary Poppins J
 unior Musical Theatre Camp. Designed especially for young performers\,  thi
 s engaging camp introduces students to the fundamentals[..]\nhttps://passio
 nacademy.net/events/mary-poppins-jr-2-musical-theatre-performance/
URL:https://passionacademy.net/events/mary-poppins-jr-2-musical-theatre-performance/
END:VEVENT
END:VCALENDAR