BEGIN:VCALENDAR
VERSION:2.0
PRODID:-//eventon.com NONSGML v1.0//EN
CALSCALE:GREGORIAN
METHOD:PUBLISH
BEGIN:VEVENT
UID:69ea27a261a73
DTSTAMP:20260423T140730Z
DTSTART:20260629T090000Z
DTEND:20260703T130000Z
LOCATION:
SUMMARY:Adult Dance Intensive (SUMMER 2026)
DESCRIPTION:June 29 &#8211; July 3  Adult Ballet Intensive Ages 18+ Advanc
 ed Beginning or Intermediate ballet level 9:00AM &#8211; 1:00PM $350 This 5
  day ballet intensive is designed for adult dance students ages 18+ who are
  at an Advanced Beginning or Intermediate ballet level and have a passion t
 o further their[..]\nhttps://passionacademy.net/events/adult-dance-intensiv
 e-summer-2026/
URL:https://passionacademy.net/events/adult-dance-intensive-summer-2026/
END:VEVENT
END:VCALENDAR