BEGIN:VCALENDAR
VERSION:2.0
PRODID:-//eventon.com NONSGML v1.0//EN
CALSCALE:GREGORIAN
METHOD:PUBLISH
BEGIN:VEVENT
UID:69ea2851dd054
DTSTAMP:20260423T141025Z
DTSTART:20260727T090000Z
DTEND:20260731T140000Z
LOCATION:
SUMMARY:BALLET PERFORMANCE CAMP - SNOW WHITE (4)
DESCRIPTION:BALLET PERFORMANCE CAMP &#8211; SNOW WHITE (4) July 27 &#8211; 
 31 Ages 9 &#8211; 13 9AM &#8211; 3PM  Experience required Dance into the c
 lassic fairytale of Snow White and learn how to put on a magical ballet pro
 duction that highlights courage\,  kindness\,  and inner beauty. This camp 
 is an “intensive”[..]\nhttps://passionacademy.net/events/ballet-perform
 ance-camp-snow-white-4/
URL:https://passionacademy.net/events/ballet-performance-camp-snow-white-4/
END:VEVENT
END:VCALENDAR