BEGIN:VCALENDAR
VERSION:2.0
PRODID:-//eventon.com NONSGML v1.0//EN
CALSCALE:GREGORIAN
METHOD:PUBLISH
BEGIN:VEVENT
UID:69ea278869283
DTSTAMP:20260423T140704Z
DTSTART:20260720T090000Z
DTEND:20260724T140000Z
LOCATION:
SUMMARY:BALLET PERFORMANCE CAMP - SNOW WHITE (3)
DESCRIPTION:BALLET PERFORMANCE CAMP &#8211; SNOW WHITE (3) July 20 &#8211; 
 24 Ages 5 &#8211; 10 9AM &#8211; 2:30PM  $375 Dance into the classic fairy
 tale of Snow White and learn how to put on a magical ballet production that
  highlights courage\,  kindness\,  and inner beauty. This camp is perfect f
 or students[..]\nhttps://passionacademy.net/events/ballet-performance-camp-
 snow-white-3/
URL:https://passionacademy.net/events/ballet-performance-camp-snow-white-3/
END:VEVENT
END:VCALENDAR