BEGIN:VCALENDAR
VERSION:2.0
PRODID:-//eventon.com NONSGML v1.0//EN
CALSCALE:GREGORIAN
METHOD:PUBLISH
BEGIN:VEVENT
UID:69ea27e5db6d4
DTSTAMP:20260423T140837Z
DTSTART:20260706T090000Z
DTEND:20260710T140000Z
LOCATION:
SUMMARY:BALLET PERFORMANCE CAMP - SNOW WHITE (2)
DESCRIPTION:BALLET PERFORMANCE CAMP &#8211; SNOW WHITE (2) July 6-10 Ages 4
  &#8211; 7 Times: 9:00am &#8211; 2:00pm Cost: $375 Dance into the classic f
 airytale of Snow White and learn how to put on a magical ballet production 
 that highlights courage\,  kindness\,  and inner beauty. This performance c
 amp is geared toward[..]\nhttps://passionacademy.net/events/ballet-performa
 nce-camp-snow-white2/
URL:https://passionacademy.net/events/ballet-performance-camp-snow-white2/
END:VEVENT
END:VCALENDAR