BEGIN:VCALENDAR
VERSION:2.0
PRODID:-//eventon.com NONSGML v1.0//EN
CALSCALE:GREGORIAN
METHOD:PUBLISH
BEGIN:VEVENT
UID:69ea27ac7e10d
DTSTAMP:20260423T140740Z
DTSTART:20260622T090000Z
DTEND:20260626T140000Z
LOCATION:
SUMMARY:MARY POPPINS JR 1: Musical Theatre Performance
DESCRIPTION:MARY POPPINS JR 1: Musical Theatre Performance  $375 June 22nd
 -26th 8:30-2 pm Ages 6-11 Teachers: Daniel and Katie Johannesson Step into 
 a world of imagination\,  music\,  and theatrical magic at our Mary Poppins
  Junior Musical Theatre Camp. Designed especially for young performers\,  t
 his engaging camp introduces students to the fundamentals[..]\nhttps://pass
 ionacademy.net/events/mary-poppins-jr1-musical-theatre-performance-camp/
URL:https://passionacademy.net/events/mary-poppins-jr1-musical-theatre-performance-camp/
END:VEVENT
END:VCALENDAR