BEGIN:VCALENDAR
VERSION:2.0
PRODID:-//eventon.com NONSGML v1.0//EN
CALSCALE:GREGORIAN
METHOD:PUBLISH
BEGIN:VEVENT
UID:69ea2861f25ce
DTSTAMP:20260423T141041Z
DTSTART:20260713T090000Z
DTEND:20260717T150000Z
LOCATION:
SUMMARY:Musical Theatre Performance Camp - MARY POPPINS
DESCRIPTION:Musical Theatre Performance Camp &#8211; MARY POPPINS (OLDER) $
 395 July 13th-17th 9 am-3 pm Ages 10-18 Teachers: Daniel and Katie Johannes
 son Step into a world of imagination\,  music\,  and theatrical artistry at
  our Mary Poppins Musical Theatre Camp. Designed for performers ages 10–1
 8\,  this dynamic camp offers in-depth training in[..]\nhttps://passionacad
 emy.net/events/musical-theatre-performance-camp-mary-poppins/
URL:https://passionacademy.net/events/musical-theatre-performance-camp-mary-poppins/
END:VEVENT
END:VCALENDAR