BEGIN:VCALENDAR
VERSION:2.0
PRODID:-//eventon.com NONSGML v1.0//EN
CALSCALE:GREGORIAN
METHOD:PUBLISH
BEGIN:VEVENT
UID:69ea2803e11d1
DTSTAMP:20260423T140907Z
DTSTART:20260608T090000Z
DTEND:20260612T140000Z
LOCATION:
SUMMARY:Broadway Intensive Music Theatre Camp: THE GREAT GATSBY\,  HAIRSPRAY AND MAMMA MIA
DESCRIPTION:BROADWAY INTENSIVE MUSIC THEATRE CAMP: THE GREAT GATSBY\,  HAIR
 SPRAY AND MAMMA MIA $395 June 8th-12th Ages 12-18 9AM- 3PM Teachers- Daniel
  Johannesson and Katie Johannesson Auditions Teens should prepare to sing a
  30-second to 1-minute segment of a song ( with no other backing vocals) fr
 om a musical of their[..]\nhttps://passionacademy.net/events/broadway-inten
 sive-music-theatre-camp-the-great-gatsby-hairspray-and-mamma-mia/
URL:https://passionacademy.net/events/broadway-intensive-music-theatre-camp-the-great-gatsby-hairspray-and-mamma-mia/
END:VEVENT
END:VCALENDAR